BEGIN:VCALENDAR
VERSION:2.0
PRODID:-//Bizmann System - ECPv6.5.1.4//NONSGML v1.0//EN
CALSCALE:GREGORIAN
METHOD:PUBLISH
X-ORIGINAL-URL:https://bizmann.com
X-WR-CALDESC:Events for Bizmann System
REFRESH-INTERVAL;VALUE=DURATION:PT1H
X-Robots-Tag:noindex
X-PUBLISHED-TTL:PT1H
BEGIN:VTIMEZONE
TZID:Asia/Singapore
BEGIN:STANDARD
TZOFFSETFROM:+0800
TZOFFSETTO:+0800
TZNAME:+08
DTSTART:20240101T000000
END:STANDARD
END:VTIMEZONE
BEGIN:VEVENT
DTSTART;TZID=Asia/Singapore:20240529T140000
DTEND;TZID=Asia/Singapore:20240529T170000
DTSTAMP:20260426T004513
CREATED:20240510T041002Z
LAST-MODIFIED:20240510T041002Z
UID:121777-1716991200-1717002000@bizmann.com
SUMMARY:Digitalisation Workshop @ High-Tea
DESCRIPTION:
URL:https://bizmann.com/event/digitalisation-workshop-high-tea/
LOCATION:The Beacon\, Level 2\, RSYC (Republic Singapore Yacht CLub)\, 52 West Coast Ferry Road\, Singapore 126887\, The Beacon\, Level 2\, RSYC (Republic Singapore Yacht CLub)\, 52 West Coast Ferry Road\, Singapore 126887\, West Coast Ferry Road\, Singapore
ORGANIZER;CN="Bizmann System (S) Pte Ltd":MAILTO:enquiries@bizmann.com
END:VEVENT
END:VCALENDAR