BEGIN:VCALENDAR
VERSION:2.0
PRODID:-//Bizmann System - ECPv6.5.1.4//NONSGML v1.0//EN
CALSCALE:GREGORIAN
METHOD:PUBLISH
X-WR-CALNAME:Bizmann System
X-ORIGINAL-URL:https://bizmann.com
X-WR-CALDESC:Events for Bizmann System
REFRESH-INTERVAL;VALUE=DURATION:PT1H
X-Robots-Tag:noindex
X-PUBLISHED-TTL:PT1H
BEGIN:VTIMEZONE
TZID:Asia/Singapore
BEGIN:STANDARD
TZOFFSETFROM:+0800
TZOFFSETTO:+0800
TZNAME:+08
DTSTART:20200101T000000
END:STANDARD
END:VTIMEZONE
BEGIN:VEVENT
DTSTART;TZID=Asia/Singapore:20200625T140000
DTEND;TZID=Asia/Singapore:20200625T160000
DTSTAMP:20260424T005052
CREATED:20200617T052554Z
LAST-MODIFIED:20200617T052554Z
UID:121074-1593093600-1593100800@bizmann.com
SUMMARY:"Grow Digital\, Go Global" Webinar
DESCRIPTION:fnbmarket.com is a B2B e-commerce market-place platform\, probably the first in Singapore since it’s launch in 2013. We are excited to announce that fnbmarket.com is now ready to go overseas – with you\, virtually\, of course! fnbmarket.com_global is supported by IMDA and Enterprise Singapore under their Go and Grow Digital program.* \nBizmann is a Business Process Management company since 2002. We are specially inviting Food Manufacturers/Wholesalers to join us in this Webinar hosted with SFMA (Singapore Food Manufacturer’s Association). If you are already doing food exports or planning to Grow your business overseas\, you must attend. \nWe will also offer an exclusive on-board offer in conjunction with SFMA. \nJoin us for a Webinar to know more on our fnbmarket.com_global B2B platform. Learn how:\n\nYou can use B2B e-commerce platform to grow your overseas businesses.\nTrade Financing works for you!\nYou can develop good customer experience for your customers\, overseas and local!
URL:https://bizmann.com/event/grow-digital-go-global-webinar/
LOCATION:Online Webinar
ORGANIZER;CN="Singapore Food Manufacturers' Association (SFMA)":MAILTO:enquiries@sfma.org.sg
END:VEVENT
BEGIN:VEVENT
DTSTART;TZID=Asia/Singapore:20200622T150000
DTEND;TZID=Asia/Singapore:20200622T163000
DTSTAMP:20260424T005052
CREATED:20200617T054033Z
LAST-MODIFIED:20200617T054033Z
UID:121080-1592838000-1592843400@bizmann.com
SUMMARY:"Grow Digital\, Go International" Webinar
DESCRIPTION:In the ever-changing global economic climate\, firms must remain adaptable. COVID-19 has accelerated and brought about a new wave of digitalisation across many industries. As firms strive to meet the evolving needs of existing consumers and grow their overall customer base\, digitalisation is proving key to these efforts. \nGoing digital not only help companies improve productivity\, but also capture new growth opportunities internationally. \nJoin us at our webinar to discover how you can successfully navigate global markets amidst these challenging times by working with our Grow Digital partners. \nWebinar Highlights:\n1. Hear from Senior Minister of State Chee Hong Tat why digitalisation and design are pivotal to business resilience and sustainability\n2. Get insights from our panel of distinguished speakers on how businesses can kick-start their digitalisation journey to capture new opportunities\n3. Pick up tips from fellow SMEs and Grow Digital solution partners on selling internationally through different channels \nSpeakers:\n• Mr Chee Hong Tat\, Senior Minister of State\, Ministry of Trade & Industry\, Ministry of Education\n• Mr Peter Ong\, Chairman\, Enterprise Singapore\n• Mr Andy Sim\, First Vice Chairman\, SGTech\n• Mr Vikraman Ilango\, Founder & CEO\, SELLinALL\n• Mr Logan Tan\, CEO & Co-founder\, Eezee Pte Ltd\n• Ms Dorothy Nah\, General Manager\, Hiap Giap Food Manufacture Pte Ltd
URL:https://bizmann.com/event/grow-digital-go-international-webinar-2/
LOCATION:Online Webinar
ORGANIZER;CN="Infocomm Media Development Authority (IMDA)":MAILTO:info@imda.gov.sg
END:VEVENT
BEGIN:VEVENT
DTSTART;TZID=Asia/Singapore:20200528T143000
DTEND;TZID=Asia/Singapore:20200528T160000
DTSTAMP:20260424T005052
CREATED:20200528T033518Z
LAST-MODIFIED:20200528T033518Z
UID:121037-1590676200-1590681600@bizmann.com
SUMMARY:"Grow Digital\, Go International" Webinar
DESCRIPTION:Grow Digital is a new initiative jointly developed by the Infocomm Media Development Authority (IMDA) and Enterprise Singapore to support SMEs who are willing and ready to seize business opportunities in overseas markets. \nIt connects SMEs to Business-to-Business (B2B) and Business-to-Consumer (B2C) e-commerce platforms pre-approved by IMDA that have regional or global reach. These platforms have strong networks with complementary business service providers (e.g. logistics and financing)\, good track record and experience in operating in multiple markets. \nThis webinar will guide businesses on how they can tap on Grow Digital to transform their operations by participating in B2B digital platforms that are suitable for their needs.
URL:https://bizmann.com/event/grow-digital-go-international-webinar/
LOCATION:Online Webinar
CATEGORIES:Webinar
END:VEVENT
END:VCALENDAR